

BEGIN:VCALENDAR
VERSION:2.0
PRODID:-//UDC Suisse //NONSGML Events //EN
CALSCALE:GREGORIAN
X-WR-CALNAME:UDC Suisse
BEGIN:VEVENT
CREATED:20181213T170815Z
UID:13478
DTEND:20190115T200000
DTSTART:20190115T193000
DTSTAMP:20260420T213526Z
LOCATION:
DESCRIPTION:
SUMMARY:Rapport de session avec Michaël Buffat\, Alice Glauser\, Jean-Pierre Grin et Jacques Nicolet
ORGANIZER:
URL;VALUE=URI:https://www.udc.ch/actualites/agenda/rapport-de-session-avec-michael-buffat-alice-glauser-jean-pierre-grin-et-jacques-nicolet-5/
TRANSP:OPAQUE
END:VEVENT
END:VCALENDAR
