

BEGIN:VCALENDAR
VERSION:2.0
PRODID:-//UDC Suisse //NONSGML Events //EN
CALSCALE:GREGORIAN
X-WR-CALNAME:UDC Suisse
BEGIN:VEVENT
CREATED:20181213T175410Z
UID:13480
DTEND:20190223T210000
DTSTART:20190223T200000
DTSTAMP:20260420T194011Z
LOCATION:Orsonnens\, 1694 Villorsonnens
DESCRIPTION:
SUMMARY:Rapport de session avec Jean-François Rime
ORGANIZER:
URL;VALUE=URI:https://www.udc.ch/actualites/agenda/rapport-de-session-avec-jean-francois-rime/
TRANSP:OPAQUE
END:VEVENT
END:VCALENDAR
