

BEGIN:VCALENDAR
VERSION:2.0
PRODID:-//UDC Suisse //NONSGML Events //EN
CALSCALE:GREGORIAN
X-WR-CALNAME:UDC Suisse
BEGIN:VEVENT
CREATED:20190321T124952Z
UID:14191
DTEND:20190401T200000
DTSTART:20190401T190000
DTSTAMP:20260420T171558Z
LOCATION:Salle de la Balance\, Route d'Yverdon 1\, 1417 Essertines-sur-Yverdon
DESCRIPTION:
SUMMARY:Rapport de session avec CN Michaël Buffat\, CN Alice Glauser\, CN Jean-Pierre Grin et CN Jacques Nicolet
ORGANIZER:
URL;VALUE=URI:https://www.udc.ch/actualites/agenda/rapport-de-session-avec-cn-michael-buffat-cn-alice-glauser-cn-jean-pierre-grin-et-cn-jacques-nicolet/
TRANSP:OPAQUE
END:VEVENT
END:VCALENDAR
