

BEGIN:VCALENDAR
VERSION:2.0
PRODID:-//UDC Suisse //NONSGML Events //EN
CALSCALE:GREGORIAN
X-WR-CALNAME:UDC Suisse
BEGIN:VEVENT
CREATED:20190321T125107Z
UID:14193
DTEND:20190322T200000
DTSTART:20190322T193000
DTSTAMP:20260421T094105Z
LOCATION:Zone Industrielle\, Les Rosses 16\, 1893 Muraz
DESCRIPTION:
SUMMARY:Rapport de session avec CN Jean-Luc Addor
ORGANIZER:
URL;VALUE=URI:https://www.udc.ch/actualites/agenda/rapport-de-session-avec-cn-jean-luc-addor/
TRANSP:OPAQUE
END:VEVENT
END:VCALENDAR
