

BEGIN:VCALENDAR
VERSION:2.0
PRODID:-//UDC Suisse //NONSGML Events //EN
CALSCALE:GREGORIAN
X-WR-CALNAME:UDC Suisse
BEGIN:VEVENT
CREATED:20190620T064137Z
UID:15925
DTEND:20190621T190000
DTSTART:20190621T183000
DTSTAMP:20260421T094721Z
LOCATION:Bar à vins la QV\, Rue de la Grand-Vigne \, 1896 Vouvry
DESCRIPTION:
SUMMARY:Rapport de session avec CN Jeran-Luc Addor
ORGANIZER:
URL;VALUE=URI:https://www.udc.ch/actualites/agenda/rapport-de-session-avec-cn-jeran-luc-addor/
TRANSP:OPAQUE
END:VEVENT
END:VCALENDAR
