

BEGIN:VCALENDAR
VERSION:2.0
PRODID:-//UDC Suisse //NONSGML Events //EN
CALSCALE:GREGORIAN
X-WR-CALNAME:UDC Suisse
BEGIN:VEVENT
CREATED:20190620T064341Z
UID:15927
DTEND:20190625T200000
DTSTART:20190625T190000
DTSTAMP:20260421T131610Z
LOCATION:Domaine des Sieurs\, Chemin des Combes 9\, 1184 Luins
DESCRIPTION:
SUMMARY:Rapport de session avec CN Michaël Buffat\, CN Alice Glauser\, CN Jean-Pierre Grin et CN Jacques Nicolet
ORGANIZER:
URL;VALUE=URI:https://www.udc.ch/actualites/agenda/rapport-de-session-avec-cn-michael-buffat-cn-alice-glauser-cn-jean-pierre-grin-et-cn-jacques-nicolet-2/
TRANSP:OPAQUE
END:VEVENT
END:VCALENDAR
