

BEGIN:VCALENDAR
VERSION:2.0
PRODID:-//UDC Suisse //NONSGML Events //EN
CALSCALE:GREGORIAN
X-WR-CALNAME:UDC Suisse
BEGIN:VEVENT
CREATED:20190620T064715Z
UID:15929
DTEND:20190922T120000
DTSTART:20190922T110000
DTSTAMP:20260420T194403Z
LOCATION:Viganello\, Lugano
DESCRIPTION:
SUMMARY:L&rsquo\;UDC proche de vous avec aCF Christoph Blocher et CN Marco Chiesa
ORGANIZER:
URL;VALUE=URI:https://www.udc.ch/actualites/agenda/ludc-proche-de-vous-avec-acf-christoph-blocher-et-cn-marco-chiesa/
TRANSP:OPAQUE
END:VEVENT
END:VCALENDAR
