

BEGIN:VCALENDAR
VERSION:2.0
PRODID:-//UDC Suisse //NONSGML Events //EN
CALSCALE:GREGORIAN
X-WR-CALNAME:UDC Suisse
BEGIN:VEVENT
CREATED:20190620T064909Z
UID:15931
DTEND:20190929T110000
DTSTART:20190929T100000
DTSTAMP:20260421T004132Z
LOCATION:Menuiserie Lumino\, Lumino
DESCRIPTION:
SUMMARY:L&rsquo\;UDC proche de vous avec CN Marco Chiesa\, CN Magdalena Martullo et CN Heinz Brand
ORGANIZER:
URL;VALUE=URI:https://www.udc.ch/actualites/agenda/ludc-proche-de-vous-avec-cn-marco-chiesa-cn-magdalena-martullo-et-cn-heinz-brand/
TRANSP:OPAQUE
END:VEVENT
END:VCALENDAR
