

BEGIN:VCALENDAR
VERSION:2.0
PRODID:-//UDC Suisse //NONSGML Events //EN
CALSCALE:GREGORIAN
X-WR-CALNAME:UDC Suisse
BEGIN:VEVENT
CREATED:20190620T065005Z
UID:15933
DTEND:20191004T190000
DTSTART:20191004T180000
DTSTAMP:20260420T214038Z
LOCATION:Bar Centro\, Lugano
DESCRIPTION:
SUMMARY:L&rsquo\;UDC proche de vous avec CN Marco Chiesa
ORGANIZER:
URL;VALUE=URI:https://www.udc.ch/actualites/agenda/ludc-proche-de-vous-avec-cn-marco-chiesa/
TRANSP:OPAQUE
END:VEVENT
END:VCALENDAR
