

BEGIN:VCALENDAR
VERSION:2.0
PRODID:-//UDC Suisse //NONSGML Events //EN
CALSCALE:GREGORIAN
X-WR-CALNAME:UDC Suisse
BEGIN:VEVENT
CREATED:20190620T070109Z
UID:15945
DTEND:20190725T110000
DTSTART:20190725T100000
DTSTAMP:20260421T042904Z
LOCATION:Marché à Bulle
DESCRIPTION:
SUMMARY:L&rsquo\;UDC proche de vous avec CN Pierre-André Page et CN Jean-Francois Rime
ORGANIZER:
URL;VALUE=URI:https://www.udc.ch/actualites/agenda/rapport-de-la-session-avec-cn-pierre-andre-page-et-cn-jean-francois-rime/
TRANSP:OPAQUE
END:VEVENT
END:VCALENDAR
