

BEGIN:VCALENDAR
VERSION:2.0
PRODID:-//UDC Suisse //NONSGML Events //EN
CALSCALE:GREGORIAN
X-WR-CALNAME:UDC Suisse
BEGIN:VEVENT
CREATED:20190620T070215Z
UID:15948
DTEND:20190808T110000
DTSTART:20190808T100000
DTSTAMP:20260420T194306Z
LOCATION:Marché à Bulle
DESCRIPTION:
SUMMARY:L&rsquo\;UDC proche de vous avec CN Pierre-André Page et CN Jean-Francois Rime
ORGANIZER:
URL;VALUE=URI:https://www.udc.ch/actualites/agenda/rapport-de-la-session-avec-cn-pierre-andre-page-et-cn-jean-francois-rime-2/
TRANSP:OPAQUE
END:VEVENT
END:VCALENDAR
