

BEGIN:VCALENDAR
VERSION:2.0
PRODID:-//UDC Suisse //NONSGML Events //EN
CALSCALE:GREGORIAN
X-WR-CALNAME:UDC Suisse
BEGIN:VEVENT
CREATED:20190805T071130Z
UID:18276
DTEND:20190812T210000
DTSTART:20190812T200000
DTSTAMP:20260420T213742Z
LOCATION:À l’Hôtel Aquatis\, Route de Berne 148\, 1010 Lausanne
DESCRIPTION:&nbsp; Inscription obligatoire:  secretariat@udc-vaud.ch  &gt; Annonce
SUMMARY:Discour de CN Roger Köppel à Lausanne
ORGANIZER:
URL;VALUE=URI:https://www.udc.ch/actualites/agenda/discour-de-cn-roger-koppel-a-lausanne/
TRANSP:OPAQUE
END:VEVENT
END:VCALENDAR
