

BEGIN:VCALENDAR
VERSION:2.0
PRODID:-//UDC Suisse //NONSGML Events //EN
CALSCALE:GREGORIAN
X-WR-CALNAME:UDC Suisse
BEGIN:VEVENT
CREATED:20190918T142748Z
UID:19931
DTEND:20200111T000000
DTSTART:20200110T000000
DTSTAMP:20260420T184252Z
LOCATION:Horn (TG)
DESCRIPTION:
SUMMARY:Séminaire «Bad Horn»
ORGANIZER:
URL;VALUE=URI:https://www.udc.ch/actualites/agenda/seminaire-bad-horn-6/
TRANSP:OPAQUE
END:VEVENT
END:VCALENDAR
