

BEGIN:VCALENDAR
VERSION:2.0
PRODID:-//UDC Suisse //NONSGML Events //EN
CALSCALE:GREGORIAN
X-WR-CALNAME:UDC Suisse
BEGIN:VEVENT
CREATED:20190918T142826Z
UID:19933
DTEND:20200124T000000
DTSTART:20200124T000000
DTSTAMP:20260420T153234Z
LOCATION:
DESCRIPTION:
SUMMARY:Comité directeur / Comité du parti avec  secrétaires cantonaux
ORGANIZER:
URL;VALUE=URI:https://www.udc.ch/actualites/agenda/comite-directeur-comite-du-parti-avec-secretaires-cantonaux-11/
TRANSP:OPAQUE
END:VEVENT
END:VCALENDAR
