

BEGIN:VCALENDAR
VERSION:2.0
PRODID:-//UDC Suisse //NONSGML Events //EN
CALSCALE:GREGORIAN
X-WR-CALNAME:UDC Suisse
BEGIN:VEVENT
CREATED:20190918T143054Z
UID:19937
DTEND:20200209T000000
DTSTART:20200209T000000
DTSTAMP:20260421T094636Z
LOCATION:
DESCRIPTION:
SUMMARY:Votations fédérales du 9 février
ORGANIZER:
URL;VALUE=URI:https://www.udc.ch/actualites/agenda/votations-federales-12/
TRANSP:OPAQUE
END:VEVENT
END:VCALENDAR
