

BEGIN:VCALENDAR
VERSION:2.0
PRODID:-//UDC Suisse //NONSGML Events //EN
CALSCALE:GREGORIAN
X-WR-CALNAME:UDC Suisse
BEGIN:VEVENT
CREATED:20190918T143409Z
UID:19943
DTEND:20200222T000000
DTSTART:20200222T000000
DTSTAMP:20260420T171959Z
LOCATION:
DESCRIPTION:
SUMMARY:Coupe de jass
ORGANIZER:
URL;VALUE=URI:https://www.udc.ch/actualites/agenda/coupe-de-jass-2/
TRANSP:OPAQUE
END:VEVENT
END:VCALENDAR
