

BEGIN:VCALENDAR
VERSION:2.0
PRODID:-//UDC Suisse //NONSGML Events //EN
CALSCALE:GREGORIAN
X-WR-CALNAME:UDC Suisse
BEGIN:VEVENT
CREATED:20190918T143959Z
UID:19951
DTEND:20200316T000000
DTSTART:20200316T000000
DTSTAMP:20260421T003651Z
LOCATION:Berne
DESCRIPTION:
SUMMARY:Rencontre avec les juges fédéraux
ORGANIZER:
URL;VALUE=URI:https://www.udc.ch/actualites/agenda/rencontre-avec-les-juges-federaux-5/
TRANSP:OPAQUE
END:VEVENT
END:VCALENDAR
