

BEGIN:VCALENDAR
VERSION:2.0
PRODID:-//UDC Suisse //NONSGML Events //EN
CALSCALE:GREGORIAN
X-WR-CALNAME:UDC Suisse
BEGIN:VEVENT
CREATED:20190918T145358Z
UID:19962
DTEND:20200504T000000
DTSTART:20200504T000000
DTSTAMP:20260421T022746Z
LOCATION:Berne
DESCRIPTION:
SUMMARY:ev. Présidence du groupe / Comité du groupe / Séance du groupe (en cas de session spéciale)
ORGANIZER:
URL;VALUE=URI:https://www.udc.ch/actualites/agenda/ev-presidence-du-groupe-comite-du-groupe-seance-du-groupe-en-cas-de-session-speciale/
TRANSP:OPAQUE
END:VEVENT
END:VCALENDAR
