

BEGIN:VCALENDAR
VERSION:2.0
PRODID:-//UDC Suisse //NONSGML Events //EN
CALSCALE:GREGORIAN
X-WR-CALNAME:UDC Suisse
BEGIN:VEVENT
CREATED:20190918T145714Z
UID:19964
DTEND:20200508T000000
DTSTART:20200504T000000
DTSTAMP:20260420T171643Z
LOCATION:Berne
DESCRIPTION:
SUMMARY:ev. Session spéciale
ORGANIZER:
URL;VALUE=URI:https://www.udc.ch/actualites/agenda/ev-session-speciale-6/
TRANSP:OPAQUE
END:VEVENT
END:VCALENDAR
