

BEGIN:VCALENDAR
VERSION:2.0
PRODID:-//UDC Suisse //NONSGML Events //EN
CALSCALE:GREGORIAN
X-WR-CALNAME:UDC Suisse
BEGIN:VEVENT
CREATED:20190918T150721Z
UID:19966
DTEND:20200509T000000
DTSTART:20200509T000000
DTSTAMP:20260420T212529Z
LOCATION:Zürich
DESCRIPTION:
SUMMARY:Rencontre avec les conseillers d&rsquo\;état
ORGANIZER:
URL;VALUE=URI:https://www.udc.ch/actualites/agenda/rencontre-avec-les-conseillers-detat-5/
TRANSP:OPAQUE
END:VEVENT
END:VCALENDAR
