

BEGIN:VCALENDAR
VERSION:2.0
PRODID:-//UDC Suisse //NONSGML Events //EN
CALSCALE:GREGORIAN
X-WR-CALNAME:UDC Suisse
BEGIN:VEVENT
CREATED:20190918T151235Z
UID:19975
DTEND:20200602T000000
DTSTART:20200602T000000
DTSTAMP:20260421T094321Z
LOCATION:Berne
DESCRIPTION:
SUMMARY:Session d’été
ORGANIZER:
URL;VALUE=URI:https://www.udc.ch/actualites/agenda/session-dete-6/
TRANSP:OPAQUE
END:VEVENT
END:VCALENDAR
