

BEGIN:VCALENDAR
VERSION:2.0
PRODID:-//UDC Suisse //NONSGML Events //EN
CALSCALE:GREGORIAN
X-WR-CALNAME:UDC Suisse
BEGIN:VEVENT
CREATED:20190918T151403Z
UID:19979
DTEND:20200609T000000
DTSTART:20200609T000000
DTSTAMP:20260420T171742Z
LOCATION:Berne
DESCRIPTION:
SUMMARY:Comité du groupe / Séance du groupe
ORGANIZER:
URL;VALUE=URI:https://www.udc.ch/actualites/agenda/comite-du-groupe-seance-du-groupe-54/
TRANSP:OPAQUE
END:VEVENT
END:VCALENDAR
