

BEGIN:VCALENDAR
VERSION:2.0
PRODID:-//UDC Suisse //NONSGML Events //EN
CALSCALE:GREGORIAN
X-WR-CALNAME:UDC Suisse
BEGIN:VEVENT
CREATED:20190918T151550Z
UID:19985
DTEND:20200821T000000
DTSTART:20200821T000000
DTSTAMP:20260420T193843Z
LOCATION:Lugano
DESCRIPTION:
SUMMARY:Assemblée générale UDC International
ORGANIZER:
URL;VALUE=URI:https://www.udc.ch/actualites/agenda/assemblee-generale-udc-international-2/
TRANSP:OPAQUE
END:VEVENT
END:VCALENDAR
