

BEGIN:VCALENDAR
VERSION:2.0
PRODID:-//UDC Suisse //NONSGML Events //EN
CALSCALE:GREGORIAN
X-WR-CALNAME:UDC Suisse
BEGIN:VEVENT
CREATED:20190918T151747Z
UID:19991
DTEND:20200822T000000
DTSTART:20200822T000000
DTSTAMP:20260420T134622Z
LOCATION:Brugg -Windisch
DESCRIPTION:&nbsp; Attention! En raison de la pandémie corona il y a des règle
SUMMARY:Assemblée des délégués
ORGANIZER:
URL;VALUE=URI:https://www.udc.ch/actualites/agenda/assemblee-des-delegues-30/
TRANSP:OPAQUE
END:VEVENT
END:VCALENDAR
