

BEGIN:VCALENDAR
VERSION:2.0
PRODID:-//UDC Suisse //NONSGML Events //EN
CALSCALE:GREGORIAN
X-WR-CALNAME:UDC Suisse
BEGIN:VEVENT
CREATED:20190918T151905Z
UID:19995
DTEND:20200829T000000
DTSTART:20200829T000000
DTSTAMP:20260421T094651Z
LOCATION:Berne
DESCRIPTION:
SUMMARY:Séance du groupe
ORGANIZER:
URL;VALUE=URI:https://www.udc.ch/actualites/agenda/seance-du-groupe-19/
TRANSP:OPAQUE
END:VEVENT
END:VCALENDAR
