

BEGIN:VCALENDAR
VERSION:2.0
PRODID:-//UDC Suisse //NONSGML Events //EN
CALSCALE:GREGORIAN
X-WR-CALNAME:UDC Suisse
BEGIN:VEVENT
CREATED:20190918T152317Z
UID:19997
DTEND:20200905T000000
DTSTART:20200904T000000
DTSTAMP:20260420T171823Z
LOCATION:
DESCRIPTION:
SUMMARY:Conférence des présidents\, présidents de groupe et secrétaires cantonaux
ORGANIZER:
URL;VALUE=URI:https://www.udc.ch/actualites/agenda/conference-des-presidents-presidents-de-groupe-et-secretaires-cantonaux-5/
TRANSP:OPAQUE
END:VEVENT
END:VCALENDAR
