

BEGIN:VCALENDAR
VERSION:2.0
PRODID:-//UDC Suisse //NONSGML Events //EN
CALSCALE:GREGORIAN
X-WR-CALNAME:UDC Suisse
BEGIN:VEVENT
CREATED:20190918T152502Z
UID:20003
DTEND:20200915T000000
DTSTART:20200915T000000
DTSTAMP:20260420T152859Z
LOCATION:Berne
DESCRIPTION:
SUMMARY:Séance du groupe
ORGANIZER:
URL;VALUE=URI:https://www.udc.ch/actualites/agenda/comite-du-groupe-seance-du-groupe-56/
TRANSP:OPAQUE
END:VEVENT
END:VCALENDAR
