

BEGIN:VCALENDAR
VERSION:2.0
PRODID:-//UDC Suisse //NONSGML Events //EN
CALSCALE:GREGORIAN
X-WR-CALNAME:UDC Suisse
BEGIN:VEVENT
CREATED:20190918T152611Z
UID:20007
DTEND:20200927T000000
DTSTART:20200927T000000
DTSTAMP:20260420T153004Z
LOCATION:
DESCRIPTION:
SUMMARY:Votations fédérales du 27 septembre 2020
ORGANIZER:
URL;VALUE=URI:https://www.udc.ch/actualites/agenda/votations-federales-14/
TRANSP:OPAQUE
END:VEVENT
END:VCALENDAR
