

BEGIN:VCALENDAR
VERSION:2.0
PRODID:-//UDC Suisse //NONSGML Events //EN
CALSCALE:GREGORIAN
X-WR-CALNAME:UDC Suisse
BEGIN:VEVENT
CREATED:20190918T152844Z
UID:20015
DTEND:20201121T000000
DTSTART:20201121T000000
DTSTAMP:20260420T194746Z
LOCATION:
DESCRIPTION:
SUMMARY:Séance du groupe
ORGANIZER:
URL;VALUE=URI:https://www.udc.ch/actualites/agenda/seance-du-groupe-20/
TRANSP:OPAQUE
END:VEVENT
END:VCALENDAR
