

BEGIN:VCALENDAR
VERSION:2.0
PRODID:-//UDC Suisse //NONSGML Events //EN
CALSCALE:GREGORIAN
X-WR-CALNAME:UDC Suisse
BEGIN:VEVENT
CREATED:20190918T152926Z
UID:20017
DTEND:20201129T000000
DTSTART:20201129T000000
DTSTAMP:20260420T213733Z
LOCATION:
DESCRIPTION:
SUMMARY:Votations fédérales du 29 novembre 2020
ORGANIZER:
URL;VALUE=URI:https://www.udc.ch/actualites/agenda/votations-federales-15/
TRANSP:OPAQUE
END:VEVENT
END:VCALENDAR
