

BEGIN:VCALENDAR
VERSION:2.0
PRODID:-//UDC Suisse //NONSGML Events //EN
CALSCALE:GREGORIAN
X-WR-CALNAME:UDC Suisse
BEGIN:VEVENT
CREATED:20190918T152959Z
UID:20019
DTEND:20201218T000000
DTSTART:20201130T000000
DTSTAMP:20260420T193549Z
LOCATION:Berne
DESCRIPTION:
SUMMARY:Session d’hiver
ORGANIZER:
URL;VALUE=URI:https://www.udc.ch/actualites/agenda/session-dhiver-6/
TRANSP:OPAQUE
END:VEVENT
END:VCALENDAR
