

BEGIN:VCALENDAR
VERSION:2.0
PRODID:-//UDC Suisse //NONSGML Events //EN
CALSCALE:GREGORIAN
X-WR-CALNAME:UDC Suisse
BEGIN:VEVENT
CREATED:20190918T153059Z
UID:20023
DTEND:20201208T000000
DTSTART:20201208T000000
DTSTAMP:20260420T193821Z
LOCATION:Berne
DESCRIPTION:
SUMMARY:Séance du groupe
ORGANIZER:
URL;VALUE=URI:https://www.udc.ch/actualites/agenda/comite-du-groupe-seance-du-groupe-58/
TRANSP:OPAQUE
END:VEVENT
END:VCALENDAR
