

BEGIN:VCALENDAR
VERSION:2.0
PRODID:-//UDC Suisse //NONSGML Events //EN
CALSCALE:GREGORIAN
X-WR-CALNAME:UDC Suisse
BEGIN:VEVENT
CREATED:20131127T132239Z
UID:7911
DTEND:20131105T000000
DTSTART:20131105T000000
DTSTAMP:20260420T171817Z
LOCATION:
DESCRIPTION: Quand: Mardi 5 novembre, 20h00 O&ugrave;: Domaine des Sieurs, 1184 Lu
SUMMARY:Conseiller national Parmelin Guy
ORGANIZER:
URL;VALUE=URI:https://www.udc.ch/actualites/agenda/conseiller-national-parmelin-guy/
TRANSP:OPAQUE
END:VEVENT
END:VCALENDAR
