

BEGIN:VCALENDAR
VERSION:2.0
PRODID:-//UDC Suisse //NONSGML Events //EN
CALSCALE:GREGORIAN
X-WR-CALNAME:UDC Suisse
BEGIN:VEVENT
CREATED:20131127T132239Z
UID:7913
DTEND:20131025T000000
DTSTART:20131025T000000
DTSTAMP:20260421T022533Z
LOCATION:
DESCRIPTION:
SUMMARY:Comité directeur et Comité  central
ORGANIZER:
URL;VALUE=URI:https://www.udc.ch/actualites/agenda/comite-directeur-et-comite-central/
TRANSP:OPAQUE
END:VEVENT
END:VCALENDAR
