

BEGIN:VCALENDAR
VERSION:2.0
PRODID:-//UDC Suisse //NONSGML Events //EN
CALSCALE:GREGORIAN
X-WR-CALNAME:UDC Suisse
BEGIN:VEVENT
CREATED:20131127T132240Z
UID:7914
DTEND:20130917T000000
DTSTART:20130917T000000
DTSTAMP:20260421T023629Z
LOCATION:
DESCRIPTION:
SUMMARY:Séance du groupe\, palais fédéral\, Berne
ORGANIZER:
URL;VALUE=URI:https://www.udc.ch/actualites/agenda/seance-du-groupe-palais-federal-berne-2/
TRANSP:OPAQUE
END:VEVENT
END:VCALENDAR
