

BEGIN:VCALENDAR
VERSION:2.0
PRODID:-//UDC Suisse //NONSGML Events //EN
CALSCALE:GREGORIAN
X-WR-CALNAME:UDC Suisse
BEGIN:VEVENT
CREATED:20131127T132241Z
UID:7916
DTEND:20131123T000000
DTSTART:20131123T000000
DTSTAMP:20260420T190608Z
LOCATION:
DESCRIPTION:
SUMMARY:Assemblée des délégués
ORGANIZER:
URL;VALUE=URI:https://www.udc.ch/actualites/agenda/assemblee-des-delegues/
TRANSP:OPAQUE
END:VEVENT
END:VCALENDAR
