

BEGIN:VCALENDAR
VERSION:2.0
PRODID:-//UDC Suisse //NONSGML Events //EN
CALSCALE:GREGORIAN
X-WR-CALNAME:UDC Suisse
BEGIN:VEVENT
CREATED:20131127T132241Z
UID:7917
DTEND:20131122T000000
DTSTART:20131122T000000
DTSTAMP:20260420T171648Z
LOCATION:
DESCRIPTION:
SUMMARY:Comité directeur et comité central
ORGANIZER:
URL;VALUE=URI:https://www.udc.ch/actualites/agenda/comite-directeur-et-comite-central-2/
TRANSP:OPAQUE
END:VEVENT
END:VCALENDAR
