

BEGIN:VCALENDAR
VERSION:2.0
PRODID:-//UDC Suisse //NONSGML Events //EN
CALSCALE:GREGORIAN
X-WR-CALNAME:UDC Suisse
BEGIN:VEVENT
CREATED:20131127T132241Z
UID:7918
DTEND:20131125T000000
DTSTART:20131125T000000
DTSTAMP:20260420T205541Z
LOCATION:
DESCRIPTION:
SUMMARY:Session d&rsquo\;hiver 2013\, Palais du Parlament\, Berne
ORGANIZER:
URL;VALUE=URI:https://www.udc.ch/actualites/agenda/session-dhiver-2013-palais-du-parlament-berne/
TRANSP:OPAQUE
END:VEVENT
END:VCALENDAR
