

BEGIN:VCALENDAR
VERSION:2.0
PRODID:-//UDC Suisse //NONSGML Events //EN
CALSCALE:GREGORIAN
X-WR-CALNAME:UDC Suisse
BEGIN:VEVENT
CREATED:20131127T132241Z
UID:7919
DTEND:20130910T000000
DTSTART:20130910T000000
DTSTAMP:20260421T094248Z
LOCATION:
DESCRIPTION:
SUMMARY:Séance du groupe\, palais fédéral\, Berne
ORGANIZER:
URL;VALUE=URI:https://www.udc.ch/actualites/agenda/seance-du-groupe-palais-federal-berne-3/
TRANSP:OPAQUE
END:VEVENT
END:VCALENDAR
