

BEGIN:VCALENDAR
VERSION:2.0
PRODID:-//UDC Suisse //NONSGML Events //EN
CALSCALE:GREGORIAN
X-WR-CALNAME:UDC Suisse
BEGIN:VEVENT
CREATED:20131127T132243Z
UID:7923
DTEND:20131115T000000
DTSTART:20131115T000000
DTSTAMP:20260420T171658Z
LOCATION:
DESCRIPTION:
SUMMARY:Comité du group\, salle du groupe\, palais fédéral\, Berne
ORGANIZER:
URL;VALUE=URI:https://www.udc.ch/actualites/agenda/comite-du-group-salle-du-groupe-palais-federal-berne-3/
TRANSP:OPAQUE
END:VEVENT
END:VCALENDAR
