

BEGIN:VCALENDAR
VERSION:2.0
PRODID:-//UDC Suisse //NONSGML Events //EN
CALSCALE:GREGORIAN
X-WR-CALNAME:UDC Suisse
BEGIN:VEVENT
CREATED:20131127T132244Z
UID:7925
DTEND:20131026T000000
DTSTART:20131026T000000
DTSTAMP:20260420T171812Z
LOCATION:
DESCRIPTION:Assembl&eacute;e des d&eacute;l&eacute;gu&eacute;s, le samedi 26 octob
SUMMARY:Assemblée des délégués « Stopper la discrimination »\, Meiringen (BE)
ORGANIZER:
URL;VALUE=URI:https://www.udc.ch/actualites/agenda/assemblee-des-delegues-stopper-la-discrimination-meiringen-be/
TRANSP:OPAQUE
END:VEVENT
END:VCALENDAR
