

BEGIN:VCALENDAR
VERSION:2.0
PRODID:-//UDC Suisse //NONSGML Events //EN
CALSCALE:GREGORIAN
X-WR-CALNAME:UDC Suisse
BEGIN:VEVENT
CREATED:20131127T132245Z
UID:7927
DTEND:20131007T000000
DTSTART:20131007T000000
DTSTAMP:20260420T211401Z
LOCATION:
DESCRIPTION: Quand: lundi, 8 avril 2013 - 20h15Ou: Ristorante la Bricola, Rivera (
SUMMARY:Conseiller national Rusconi Pierre
ORGANIZER:
URL;VALUE=URI:https://www.udc.ch/actualites/agenda/conseiller-national-rusconi-pierre/
TRANSP:OPAQUE
END:VEVENT
END:VCALENDAR
