

BEGIN:VCALENDAR
VERSION:2.0
PRODID:-//UDC Suisse //NONSGML Events //EN
CALSCALE:GREGORIAN
X-WR-CALNAME:UDC Suisse
BEGIN:VEVENT
CREATED:20131127T132245Z
UID:7929
DTEND:20130907T000000
DTSTART:20130907T000000
DTSTAMP:20260420T225228Z
LOCATION:
DESCRIPTION:     &laquo;Libert&eacute; au lieu de chicaneries&raquo; Parking pr&eg
SUMMARY:Tous à la deuxiÈme landsgemeinde des motards!
ORGANIZER:
URL;VALUE=URI:https://www.udc.ch/actualites/agenda/tous-a-la-deuxieme-landsgemeinde-des-motards/
TRANSP:OPAQUE
END:VEVENT
END:VCALENDAR
