

BEGIN:VCALENDAR
VERSION:2.0
PRODID:-//UDC Suisse //NONSGML Events //EN
CALSCALE:GREGORIAN
X-WR-CALNAME:UDC Suisse
BEGIN:VEVENT
CREATED:20140213T083709Z
UID:7930
DTEND:20140321T000000
DTSTART:20140303T000000
DTSTAMP:20260420T190138Z
LOCATION:Palais du Parlament\, Berne
DESCRIPTION:
SUMMARY:Session de printemps 2014
ORGANIZER:
URL;VALUE=URI:https://www.udc.ch/actualites/agenda/session-de-printemps-2014/
TRANSP:OPAQUE
END:VEVENT
END:VCALENDAR
