

BEGIN:VCALENDAR
VERSION:2.0
PRODID:-//UDC Suisse //NONSGML Events //EN
CALSCALE:GREGORIAN
X-WR-CALNAME:UDC Suisse
BEGIN:VEVENT
CREATED:20140213T094338Z
UID:7931
DTEND:20140404T170000
DTSTART:20140404T000000
DTSTAMP:20260421T060920Z
LOCATION:
DESCRIPTION:
SUMMARY:Comité directeur et Comité central
ORGANIZER:
URL;VALUE=URI:https://www.udc.ch/actualites/agenda/comite-directeur-et-comite-central-3/
TRANSP:OPAQUE
END:VEVENT
END:VCALENDAR
