

BEGIN:VCALENDAR
VERSION:2.0
PRODID:-//UDC Suisse //NONSGML Events //EN
CALSCALE:GREGORIAN
X-WR-CALNAME:UDC Suisse
BEGIN:VEVENT
CREATED:20140213T095205Z
UID:7935
DTEND:20140926T000000
DTSTART:20140908T000000
DTSTAMP:20260420T205337Z
LOCATION:
DESCRIPTION:
SUMMARY:Session d&rsquo\;automne 2014
ORGANIZER:
URL;VALUE=URI:https://www.udc.ch/actualites/agenda/session-dautomne-2014/
TRANSP:OPAQUE
END:VEVENT
END:VCALENDAR
