

BEGIN:VCALENDAR
VERSION:2.0
PRODID:-//UDC Suisse //NONSGML Events //EN
CALSCALE:GREGORIAN
X-WR-CALNAME:UDC Suisse
BEGIN:VEVENT
CREATED:20140213T095240Z
UID:7936
DTEND:20141024T170000
DTSTART:20141024T000000
DTSTAMP:20260420T202324Z
LOCATION:
DESCRIPTION:
SUMMARY:Comité directeur et Comité central
ORGANIZER:
URL;VALUE=URI:https://www.udc.ch/actualites/agenda/comite-directeur-et-comite-central-5/
TRANSP:OPAQUE
END:VEVENT
END:VCALENDAR
