

BEGIN:VCALENDAR
VERSION:2.0
PRODID:-//UDC Suisse //NONSGML Events //EN
CALSCALE:GREGORIAN
X-WR-CALNAME:UDC Suisse
BEGIN:VEVENT
CREATED:20140213T095341Z
UID:7937
DTEND:20141212T000000
DTSTART:20141124T000000
DTSTAMP:20260420T190107Z
LOCATION:
DESCRIPTION:
SUMMARY:Session d&rsquo\;hiver 2014
ORGANIZER:
URL;VALUE=URI:https://www.udc.ch/actualites/agenda/session-dhiver-2014/
TRANSP:OPAQUE
END:VEVENT
END:VCALENDAR
