

BEGIN:VCALENDAR
VERSION:2.0
PRODID:-//UDC Suisse //NONSGML Events //EN
CALSCALE:GREGORIAN
X-WR-CALNAME:UDC Suisse
BEGIN:VEVENT
CREATED:20140304T102700Z
UID:7938
DTEND:20030209T000000
DTSTART:20030209T000000
DTSTAMP:20260421T094154Z
LOCATION:
DESCRIPTION:
SUMMARY:Votations populaires du 9 février 2003
ORGANIZER:
URL;VALUE=URI:https://www.udc.ch/actualites/agenda/votations-populaires-du-9-fevrier-2003/
TRANSP:OPAQUE
END:VEVENT
END:VCALENDAR
