

BEGIN:VCALENDAR
VERSION:2.0
PRODID:-//UDC Suisse //NONSGML Events //EN
CALSCALE:GREGORIAN
X-WR-CALNAME:UDC Suisse
BEGIN:VEVENT
CREATED:20140304T144200Z
UID:7941
DTEND:20131124T000000
DTSTART:20131124T000000
DTSTAMP:20260420T225319Z
LOCATION:
DESCRIPTION:
SUMMARY:Votations populaires du 24 novembre 2013
ORGANIZER:
URL;VALUE=URI:https://www.udc.ch/actualites/agenda/votations-populaires-du-24-novembre-2013/
TRANSP:OPAQUE
END:VEVENT
END:VCALENDAR
